BEGIN:VCALENDAR
VERSION:2.0
PRODID:-//eventon.com NONSGML v1.0//EN
CALSCALE:GREGORIAN
METHOD:PUBLISH
BEGIN:VEVENT
UID:69e8d2a363482
DTSTAMP:20260422T135235Z
DTSTART:20260520T140000Z
DTEND:20260520T183000Z
LOCATION:
SUMMARY:Gestión del Tiempo: De Saturado a Enfocado
DESCRIPTION:Masterclass: «Gestión del Tiempo: De Saturado a Enfocado» co
 n José Luis Calvo. &nbsp; Presencial + Streaming en directo 16:00 a 16:30 
 – Café – Networking Networking social de relaciones comerciales. 16:30
  a 17:30 &#8211; Formación 19:00 a 19:30 &#8211; Café – Networking Come
 rcial Networking social de relaciones comerciales. 19:30 a[..]\nhttps://clu
 beipymes.com/events/gestion-del-tiempo-de-saturado-a-enfocado/
URL:https://clubeipymes.com/events/gestion-del-tiempo-de-saturado-a-enfocado/
END:VEVENT
END:VCALENDAR